BEGIN:VCALENDAR
VERSION:2.0
PRODID:-// - ECPv6.15.20//NONSGML v1.0//EN
CALSCALE:GREGORIAN
METHOD:PUBLISH
X-ORIGINAL-URL:https://mairie-pezilla-riviere.fr
X-WR-CALDESC:Évènements pour 
REFRESH-INTERVAL;VALUE=DURATION:PT1H
X-Robots-Tag:noindex
X-PUBLISHED-TTL:PT1H
BEGIN:VTIMEZONE
TZID:Europe/Paris
BEGIN:DAYLIGHT
TZOFFSETFROM:+0100
TZOFFSETTO:+0200
TZNAME:CEST
DTSTART:20250330T010000
END:DAYLIGHT
BEGIN:STANDARD
TZOFFSETFROM:+0200
TZOFFSETTO:+0100
TZNAME:CET
DTSTART:20251026T010000
END:STANDARD
BEGIN:DAYLIGHT
TZOFFSETFROM:+0100
TZOFFSETTO:+0200
TZNAME:CEST
DTSTART:20260329T010000
END:DAYLIGHT
BEGIN:STANDARD
TZOFFSETFROM:+0200
TZOFFSETTO:+0100
TZNAME:CET
DTSTART:20261025T010000
END:STANDARD
BEGIN:DAYLIGHT
TZOFFSETFROM:+0100
TZOFFSETTO:+0200
TZNAME:CEST
DTSTART:20270328T010000
END:DAYLIGHT
BEGIN:STANDARD
TZOFFSETFROM:+0200
TZOFFSETTO:+0100
TZNAME:CET
DTSTART:20271031T010000
END:STANDARD
END:VTIMEZONE
BEGIN:VEVENT
DTSTART;VALUE=DATE:20260411
DTEND;VALUE=DATE:20260427
DTSTAMP:20260421T103629
CREATED:20260116T100758Z
LAST-MODIFIED:20260116T100758Z
UID:15867-1775865600-1777247999@mairie-pezilla-riviere.fr
SUMMARY:Exposition photos
DESCRIPTION:Jacques Ladouce exposera ses photos sur « Mers et Océans » \n(La date du vernissage sera donnée ultérieurement)
URL:https://mairie-pezilla-riviere.fr/sortie-pyrenees-orientales-autour-perpignan-occitanie/exposition-photos/
LOCATION:Salle de conférence à la maison des associations\, 48 avenue de la République\, PEZILLA-LA-RIVIERE\, 66370\, France
END:VEVENT
BEGIN:VEVENT
DTSTART;TZID=Europe/Paris:20260424T183000
DTEND;TZID=Europe/Paris:20260424T183000
DTSTAMP:20260421T103629
CREATED:20260116T095133Z
LAST-MODIFIED:20260116T095133Z
UID:15865-1777055400-1777055400@mairie-pezilla-riviere.fr
SUMMARY:Conférence
DESCRIPTION:de Caroline Figuères : « les ressources en eau pour le futur en Catalogne Nord ». \n 
URL:https://mairie-pezilla-riviere.fr/sortie-pyrenees-orientales-autour-perpignan-occitanie/conference-13/
LOCATION:Centre Culturel\, 2 rue Ferdinand José\, Pézilla-la-Rivière\, Occitanie\, 66370\, France
END:VEVENT
BEGIN:VEVENT
DTSTART;TZID=Europe/Paris:20260425T090000
DTEND;TZID=Europe/Paris:20260425T130000
DTSTAMP:20260421T103629
CREATED:20260401T095005Z
LAST-MODIFIED:20260414T142752Z
UID:16529-1777107600-1777122000@mairie-pezilla-riviere.fr
SUMMARY:Sant Jordi et Marché des Potiers(es)
DESCRIPTION: 
URL:https://mairie-pezilla-riviere.fr/sortie-pyrenees-orientales-autour-perpignan-occitanie/sant-jordi-et-marche-des-potierses/
LOCATION:Place du général Foixet\, Place du général Foixet\, Pézilla-la-Rivière\, 66370\, France
END:VEVENT
BEGIN:VEVENT
DTSTART;TZID=Europe/Paris:20260425T140000
DTEND;TZID=Europe/Paris:20260425T140000
DTSTAMP:20260421T103629
CREATED:20260414T143018Z
LAST-MODIFIED:20260414T143843Z
UID:16587-1777125600-1777125600@mairie-pezilla-riviere.fr
SUMMARY:"Osez dévoiler votre talent"
DESCRIPTION:Concours de talents gratuit organisé par le Conseil Municipal des Enfants et des Jeunes (CMEJ) avec l’aide de la Municipalité. \nMusiciens\, danseurs\, chanteurs\, humoristes\, acteurs\, magiciens\, dessinateurs ou artistes\, ils vont partager leur passion sur scène\, seul ou en groupe (jusqu’à 5 personnes). \n \n 
URL:https://mairie-pezilla-riviere.fr/sortie-pyrenees-orientales-autour-perpignan-occitanie/osez-devoiler-votre-talent/
LOCATION:Centre Culturel\, 2 rue Ferdinand José\, Pézilla-la-Rivière\, Occitanie\, 66370\, France
END:VEVENT
END:VCALENDAR