BEGIN:VCALENDAR
VERSION:2.0
PRODID:-// - ECPv6.15.20//NONSGML v1.0//EN
CALSCALE:GREGORIAN
METHOD:PUBLISH
X-ORIGINAL-URL:https://mairie-pezilla-riviere.fr
X-WR-CALDESC:Évènements pour 
REFRESH-INTERVAL;VALUE=DURATION:PT1H
X-Robots-Tag:noindex
X-PUBLISHED-TTL:PT1H
BEGIN:VTIMEZONE
TZID:Europe/Paris
BEGIN:DAYLIGHT
TZOFFSETFROM:+0100
TZOFFSETTO:+0200
TZNAME:CEST
DTSTART:20230326T010000
END:DAYLIGHT
BEGIN:STANDARD
TZOFFSETFROM:+0200
TZOFFSETTO:+0100
TZNAME:CET
DTSTART:20231029T010000
END:STANDARD
BEGIN:DAYLIGHT
TZOFFSETFROM:+0100
TZOFFSETTO:+0200
TZNAME:CEST
DTSTART:20240331T010000
END:DAYLIGHT
BEGIN:STANDARD
TZOFFSETFROM:+0200
TZOFFSETTO:+0100
TZNAME:CET
DTSTART:20241027T010000
END:STANDARD
BEGIN:DAYLIGHT
TZOFFSETFROM:+0100
TZOFFSETTO:+0200
TZNAME:CEST
DTSTART:20250330T010000
END:DAYLIGHT
BEGIN:STANDARD
TZOFFSETFROM:+0200
TZOFFSETTO:+0100
TZNAME:CET
DTSTART:20251026T010000
END:STANDARD
END:VTIMEZONE
BEGIN:VEVENT
DTSTART;TZID=Europe/Paris:20240902T083000
DTEND;TZID=Europe/Paris:20240902T083000
DTSTAMP:20260421T134036
CREATED:20240618T090455Z
LAST-MODIFIED:20240618T090536Z
UID:10849-1725265800-1725265800@mairie-pezilla-riviere.fr
SUMMARY:Rentrée scolaire
DESCRIPTION:
URL:https://mairie-pezilla-riviere.fr/sortie-pyrenees-orientales-autour-perpignan-occitanie/rentree-scolaire-2/
LOCATION:Occitanie
END:VEVENT
BEGIN:VEVENT
DTSTART;TZID=Europe/Paris:20240906T193000
DTEND;TZID=Europe/Paris:20240906T193000
DTSTAMP:20260421T134036
CREATED:20240618T144143Z
LAST-MODIFIED:20240619T064531Z
UID:10890-1725651000-1725651000@mairie-pezilla-riviere.fr
SUMMARY:Nits de la Cellera 2024 " Nit del pop-rock"
DESCRIPTION:
URL:https://mairie-pezilla-riviere.fr/sortie-pyrenees-orientales-autour-perpignan-occitanie/nits-de-la-cellera-2024-11/
LOCATION:Médiathèque\, Place général Foixet\, Pézilla la Rivière\, 66370\, France
END:VEVENT
BEGIN:VEVENT
DTSTART;TZID=Europe/Paris:20240908T140000
DTEND;TZID=Europe/Paris:20240908T200000
DTSTAMP:20260421T134036
CREATED:20240618T090843Z
LAST-MODIFIED:20240618T090850Z
UID:10851-1725804000-1725825600@mairie-pezilla-riviere.fr
SUMMARY:Forum des associations et accueil des nouveaux arrivants
DESCRIPTION:A cette occasion\, la municipalité invite les nouveaux arrivants à l’apéritif de clôture du forum des associations à 18h.\n\n\nSi vous êtes nouvellement arrivé(e)s sur notre commune\, n’hésitez à vous présenter au secrétariat de la Mairie.
URL:https://mairie-pezilla-riviere.fr/sortie-pyrenees-orientales-autour-perpignan-occitanie/forum-des-associations-et-accueil-des-nouveaux-arrivants/
LOCATION:Halle des sports\, 5 Rue Força Réal\, Pézilla la Rivière\, 66370\, France
END:VEVENT
BEGIN:VEVENT
DTSTART;TZID=Europe/Paris:20240913T183000
DTEND;TZID=Europe/Paris:20240913T183000
DTSTAMP:20260421T134036
CREATED:20240618T144307Z
LAST-MODIFIED:20240619T064605Z
UID:10892-1726252200-1726252200@mairie-pezilla-riviere.fr
SUMMARY:Nits de la Cellera 2024 " Nit del fumista"
DESCRIPTION:
URL:https://mairie-pezilla-riviere.fr/sortie-pyrenees-orientales-autour-perpignan-occitanie/nits-de-la-cellera-2024-12/
LOCATION:Occitanie
END:VEVENT
BEGIN:VEVENT
DTSTART;TZID=Europe/Paris:20240914T200000
DTEND;TZID=Europe/Paris:20240914T200000
DTSTAMP:20260421T134036
CREATED:20240806T134113Z
LAST-MODIFIED:20240806T134508Z
UID:11311-1726344000-1726344000@mairie-pezilla-riviere.fr
SUMMARY:Rifle de l'association  ATICOM
DESCRIPTION:
URL:https://mairie-pezilla-riviere.fr/sortie-pyrenees-orientales-autour-perpignan-occitanie/rifle-de-lassociation-aticom/
LOCATION:Centre Culturel\, 2 rue Ferdinand José\, Pézilla-la-Rivière\, Occitanie\, 66370\, France
END:VEVENT
BEGIN:VEVENT
DTSTART;TZID=Europe/Paris:20240920T183000
DTEND;TZID=Europe/Paris:20240920T183000
DTSTAMP:20260421T134036
CREATED:20240918T144342Z
LAST-MODIFIED:20240918T144342Z
UID:11585-1726857000-1726857000@mairie-pezilla-riviere.fr
SUMMARY:Exposition André AUTIÉ
DESCRIPTION:salle de conférences à la Maison des Services et des Associations
URL:https://mairie-pezilla-riviere.fr/sortie-pyrenees-orientales-autour-perpignan-occitanie/exposition-andre-autie/
LOCATION:Occitanie
END:VEVENT
BEGIN:VEVENT
DTSTART;TZID=Europe/Paris:20240920T200000
DTEND;TZID=Europe/Paris:20240920T200000
DTSTAMP:20260421T134036
CREATED:20240618T145938Z
LAST-MODIFIED:20240918T144725Z
UID:10894-1726862400-1726862400@mairie-pezilla-riviere.fr
SUMMARY:Nits de la Cellera 2024 " Nit del patrimoni"
DESCRIPTION:Soirée de clôture des NITS DE LA CELLERA\n\n\nà partir de 20h—Place Foixet \n\n\n Repas partagé tiré du sac \n\n\nSpectacle de danses des pays catalans par le groupe JOVENTUT \n\n\n(avec une évocation de l ‘histoire et du patrimoine de la Cellera de Pézilla)
URL:https://mairie-pezilla-riviere.fr/sortie-pyrenees-orientales-autour-perpignan-occitanie/nits-de-la-cellera-2024-13/
LOCATION:Médiathèque\, Place général Foixet\, Pézilla la Rivière\, 66370\, France
END:VEVENT
BEGIN:VEVENT
DTSTART;VALUE=DATE:20240921
DTEND;VALUE=DATE:20240922
DTSTAMP:20260421T134036
CREATED:20240618T092046Z
LAST-MODIFIED:20240618T092046Z
UID:10865-1726876800-1726963199@mairie-pezilla-riviere.fr
SUMMARY:Tous à vélo 2024
DESCRIPTION:
URL:https://mairie-pezilla-riviere.fr/sortie-pyrenees-orientales-autour-perpignan-occitanie/tous-a-velo-2024/
LOCATION:Occitanie
END:VEVENT
BEGIN:VEVENT
DTSTART;TZID=Europe/Paris:20240924T093000
DTEND;TZID=Europe/Paris:20240924T093000
DTSTAMP:20260421T134036
CREATED:20240918T145013Z
LAST-MODIFIED:20240918T145109Z
UID:11589-1727170200-1727170200@mairie-pezilla-riviere.fr
SUMMARY:Inauguration des réalisations de la commune
DESCRIPTION:le Rendez-vous est fixé à 9h30 à la Mairie
URL:https://mairie-pezilla-riviere.fr/sortie-pyrenees-orientales-autour-perpignan-occitanie/inauguration-des-realisations-de-la-commune/
LOCATION:Occitanie
END:VEVENT
BEGIN:VEVENT
DTSTART;TZID=Europe/Paris:20240928T100000
DTEND;TZID=Europe/Paris:20240928T100000
DTSTAMP:20260421T134036
CREATED:20240918T150135Z
LAST-MODIFIED:20240918T150203Z
UID:11598-1727517600-1727517600@mairie-pezilla-riviere.fr
SUMMARY:Découverte et visite du centre historique du village
DESCRIPTION:A partir de 10h – RDV à la Médiathèque
URL:https://mairie-pezilla-riviere.fr/sortie-pyrenees-orientales-autour-perpignan-occitanie/decouverte-et-visite-du-centre-historique-du-village/
LOCATION:Occitanie
END:VEVENT
END:VCALENDAR