BEGIN:VCALENDAR
VERSION:2.0
PRODID:-// - ECPv6.15.20//NONSGML v1.0//EN
CALSCALE:GREGORIAN
METHOD:PUBLISH
X-ORIGINAL-URL:https://mairie-pezilla-riviere.fr
X-WR-CALDESC:Évènements pour 
REFRESH-INTERVAL;VALUE=DURATION:PT1H
X-Robots-Tag:noindex
X-PUBLISHED-TTL:PT1H
BEGIN:VTIMEZONE
TZID:Europe/Paris
BEGIN:DAYLIGHT
TZOFFSETFROM:+0100
TZOFFSETTO:+0200
TZNAME:CEST
DTSTART:20230326T010000
END:DAYLIGHT
BEGIN:STANDARD
TZOFFSETFROM:+0200
TZOFFSETTO:+0100
TZNAME:CET
DTSTART:20231029T010000
END:STANDARD
BEGIN:DAYLIGHT
TZOFFSETFROM:+0100
TZOFFSETTO:+0200
TZNAME:CEST
DTSTART:20240331T010000
END:DAYLIGHT
BEGIN:STANDARD
TZOFFSETFROM:+0200
TZOFFSETTO:+0100
TZNAME:CET
DTSTART:20241027T010000
END:STANDARD
BEGIN:DAYLIGHT
TZOFFSETFROM:+0100
TZOFFSETTO:+0200
TZNAME:CEST
DTSTART:20250330T010000
END:DAYLIGHT
BEGIN:STANDARD
TZOFFSETFROM:+0200
TZOFFSETTO:+0100
TZNAME:CET
DTSTART:20251026T010000
END:STANDARD
END:VTIMEZONE
BEGIN:VEVENT
DTSTART;TZID=Europe/Paris:20240829T090000
DTEND;TZID=Europe/Paris:20240829T140000
DTSTAMP:20260421T151640
CREATED:20240618T090349Z
LAST-MODIFIED:20240618T090349Z
UID:10847-1724922000-1724940000@mairie-pezilla-riviere.fr
SUMMARY:Journée "Portes ouvertes" - Cantine
DESCRIPTION:
URL:https://mairie-pezilla-riviere.fr/sortie-pyrenees-orientales-autour-perpignan-occitanie/journee-portes-ouvertes-cantine/
LOCATION:Occitanie
END:VEVENT
BEGIN:VEVENT
DTSTART;TZID=Europe/Paris:20240829T210000
DTEND;TZID=Europe/Paris:20240829T210000
DTSTAMP:20260421T151640
CREATED:20240618T143945Z
LAST-MODIFIED:20240619T064313Z
UID:10886-1724965200-1724965200@mairie-pezilla-riviere.fr
SUMMARY:Nits de la Cellera 2024 " Nit de la canco francesa"
DESCRIPTION:
URL:https://mairie-pezilla-riviere.fr/sortie-pyrenees-orientales-autour-perpignan-occitanie/nits-de-la-cellera-2024-9/
LOCATION:Place du général Foixet\, Place du général Foixet\, Pézilla-la-Rivière\, 66370\, France
END:VEVENT
BEGIN:VEVENT
DTSTART;TZID=Europe/Paris:20240830T190000
DTEND;TZID=Europe/Paris:20240830T190000
DTSTAMP:20260421T151640
CREATED:20240806T133902Z
LAST-MODIFIED:20240806T140253Z
UID:11309-1725044400-1725044400@mairie-pezilla-riviere.fr
SUMMARY:Bal des pompiers sur la Place
DESCRIPTION:
URL:https://mairie-pezilla-riviere.fr/sortie-pyrenees-orientales-autour-perpignan-occitanie/bal-des-pompiers-sur-la-place-2/
LOCATION:Occitanie
END:VEVENT
BEGIN:VEVENT
DTSTART;TZID=Europe/Paris:20240831T210000
DTEND;TZID=Europe/Paris:20240831T210000
DTSTAMP:20260421T151640
CREATED:20240618T144049Z
LAST-MODIFIED:20240619T064357Z
UID:10888-1725138000-1725138000@mairie-pezilla-riviere.fr
SUMMARY:Nits de la Cellera 2024 "Nit de la sardane"
DESCRIPTION:
URL:https://mairie-pezilla-riviere.fr/sortie-pyrenees-orientales-autour-perpignan-occitanie/nits-de-la-cellera-2024-10/
LOCATION:Place du général Foixet\, Place du général Foixet\, Pézilla-la-Rivière\, 66370\, France
END:VEVENT
END:VCALENDAR