BEGIN:VCALENDAR
VERSION:2.0
PRODID:-// - ECPv6.15.20//NONSGML v1.0//EN
CALSCALE:GREGORIAN
METHOD:PUBLISH
X-ORIGINAL-URL:https://mairie-pezilla-riviere.fr
X-WR-CALDESC:Évènements pour 
REFRESH-INTERVAL;VALUE=DURATION:PT1H
X-Robots-Tag:noindex
X-PUBLISHED-TTL:PT1H
BEGIN:VTIMEZONE
TZID:Europe/Paris
BEGIN:DAYLIGHT
TZOFFSETFROM:+0100
TZOFFSETTO:+0200
TZNAME:CEST
DTSTART:20230326T010000
END:DAYLIGHT
BEGIN:STANDARD
TZOFFSETFROM:+0200
TZOFFSETTO:+0100
TZNAME:CET
DTSTART:20231029T010000
END:STANDARD
BEGIN:DAYLIGHT
TZOFFSETFROM:+0100
TZOFFSETTO:+0200
TZNAME:CEST
DTSTART:20240331T010000
END:DAYLIGHT
BEGIN:STANDARD
TZOFFSETFROM:+0200
TZOFFSETTO:+0100
TZNAME:CET
DTSTART:20241027T010000
END:STANDARD
BEGIN:DAYLIGHT
TZOFFSETFROM:+0100
TZOFFSETTO:+0200
TZNAME:CEST
DTSTART:20250330T010000
END:DAYLIGHT
BEGIN:STANDARD
TZOFFSETFROM:+0200
TZOFFSETTO:+0100
TZNAME:CET
DTSTART:20251026T010000
END:STANDARD
END:VTIMEZONE
BEGIN:VEVENT
DTSTART;TZID=Europe/Paris:20240601T093000
DTEND;TZID=Europe/Paris:20240601T190000
DTSTAMP:20260421T134017
CREATED:20240430T133407Z
LAST-MODIFIED:20240430T133806Z
UID:10484-1717234200-1717268400@mairie-pezilla-riviere.fr
SUMMARY:Fête de la Jeunesse
DESCRIPTION:Le matin rendez vous à partir de 9h30 à la médiathèque avec de nombreuses animations (Livre numérique\, atelier culinaire) \n12h – rendez vous aux écoles (remise des calculettes aux élèves de CM2\, démonstrations de hip hop et Chorale du périscolaire) \nA partir de 14h00 nombreuses activités dans la cour de l’école\, exposition et animations pour tous…… \nEn fin d’après midi représentation des activités périscolaire (Hip Hop et musique). \n 
URL:https://mairie-pezilla-riviere.fr/sortie-pyrenees-orientales-autour-perpignan-occitanie/fete-de-la-jeunesse/
LOCATION:Occitanie
END:VEVENT
BEGIN:VEVENT
DTSTART;TZID=Europe/Paris:20240601T190000
DTEND;TZID=Europe/Paris:20240601T190000
DTSTAMP:20260421T134017
CREATED:20240430T140547Z
LAST-MODIFIED:20240514T141811Z
UID:10504-1717268400-1717268400@mairie-pezilla-riviere.fr
SUMMARY:repas et soirée dansante "Année 80"
DESCRIPTION:Organisée par l’association « ATICOM »
URL:https://mairie-pezilla-riviere.fr/sortie-pyrenees-orientales-autour-perpignan-occitanie/soiree-dansante-annee-80/
LOCATION:Marché de Gros\, rue du marché de Gros\, Pézilla-la-Rivière\, 66370\, France
END:VEVENT
BEGIN:VEVENT
DTSTART;TZID=Europe/Paris:20240604T203000
DTEND;TZID=Europe/Paris:20240604T203000
DTSTAMP:20260421T134017
CREATED:20240430T135225Z
LAST-MODIFIED:20240430T135225Z
UID:10496-1717533000-1717533000@mairie-pezilla-riviere.fr
SUMMARY:Illustration cinématographique  Film « Il faut sauver le soldat Ryan » et Conférence - Le débarquement et la bataille de Normandie 
DESCRIPTION:
URL:https://mairie-pezilla-riviere.fr/sortie-pyrenees-orientales-autour-perpignan-occitanie/illustration-cinematographique-film-il-faut-sauver-le-soldat-ryan-et-conference-le-debarquement-et-la-bataille-de-normandie/
LOCATION:Centre Culturel\, 2 rue Ferdinand José\, Pézilla-la-Rivière\, Occitanie\, 66370\, France
END:VEVENT
BEGIN:VEVENT
DTSTART;VALUE=DATE:20240608
DTEND;VALUE=DATE:20240610
DTSTAMP:20260421T134017
CREATED:20240430T131544Z
LAST-MODIFIED:20240430T131618Z
UID:10476-1717804800-1717977599@mairie-pezilla-riviere.fr
SUMMARY:Tournoi de la Têt Europa Cup  U11 et U13 
DESCRIPTION:Organisé par l’association « Baho Pézilla Football Club » \nau Stade Armel COSTA \nPour tous renseignements :  \nTél. : 06 82 34 90 43 ou  06 43 48 93 44 \n 
URL:https://mairie-pezilla-riviere.fr/sortie-pyrenees-orientales-autour-perpignan-occitanie/tournoi-de-la-tet-europa-cup-u11-et-u13/
LOCATION:Halle des sports\, 5 Rue Força Réal\, Pézilla la Rivière\, 66370\, France
END:VEVENT
BEGIN:VEVENT
DTSTART;TZID=Europe/Paris:20240609T080000
DTEND;TZID=Europe/Paris:20240609T080000
DTSTAMP:20260421T134017
CREATED:20240430T140710Z
LAST-MODIFIED:20240430T140748Z
UID:10506-1717920000-1717920000@mairie-pezilla-riviere.fr
SUMMARY:Elections européennes
DESCRIPTION:
URL:https://mairie-pezilla-riviere.fr/sortie-pyrenees-orientales-autour-perpignan-occitanie/elections-europeennes/
LOCATION:Occitanie
END:VEVENT
BEGIN:VEVENT
DTSTART;TZID=Europe/Paris:20240614T170000
DTEND;TZID=Europe/Paris:20240614T170000
DTSTAMP:20260421T134017
CREATED:20240430T132334Z
LAST-MODIFIED:20240430T133205Z
UID:10482-1718384400-1718384400@mairie-pezilla-riviere.fr
SUMMARY:Inauguration du festival des « nits de la Cellera »
DESCRIPTION:Vendredi 14 juin—balade littéraire à 17h (départ de la Médiathèque) \nRepas tiré du sac & Concert à 20h « l’Harmonie des Couleurs » (Place Foixet) ou Centre Culturel en cas de mauvais temps \n 
URL:https://mairie-pezilla-riviere.fr/sortie-pyrenees-orientales-autour-perpignan-occitanie/inauguration-du-festival-des-nits-de-la-cellera/
LOCATION:Place du général Foixet\, Place du général Foixet\, Pézilla-la-Rivière\, 66370\, France
END:VEVENT
BEGIN:VEVENT
DTSTART;TZID=Europe/Paris:20240615T100000
DTEND;TZID=Europe/Paris:20240615T120000
DTSTAMP:20260421T134017
CREATED:20240430T131758Z
LAST-MODIFIED:20240430T131758Z
UID:10479-1718445600-1718452800@mairie-pezilla-riviere.fr
SUMMARY:Atelier Parents-Enfants
DESCRIPTION:Organisé par l’association des « Parents d’Elèves » \nau Centre Culturel \n1 temps pour toi + 1 temps pour moi = 1 temps pour nous. \nCe sera un moment de pause pour découvrir comment créer des parenthèses d’échange dans la vie quotidienne. \nUne approche ludique\, pratique\, créative\, humaniste\, qui invite à développer notre inventivité pour réfléchir à de nouvelles solutions à la parentalité. \n 
URL:https://mairie-pezilla-riviere.fr/sortie-pyrenees-orientales-autour-perpignan-occitanie/atelier-parents-enfants/
LOCATION:Centre Culturel\, 2 rue Ferdinand José\, Pézilla-la-Rivière\, Occitanie\, 66370\, France
END:VEVENT
BEGIN:VEVENT
DTSTART;TZID=Europe/Paris:20240615T210000
DTEND;TZID=Europe/Paris:20240615T210000
DTSTAMP:20260421T134017
CREATED:20240207T090632Z
LAST-MODIFIED:20240207T090632Z
UID:9783-1718485200-1718485200@mairie-pezilla-riviere.fr
SUMMARY:Spectacle de l'Association de danse "La Tête et les Jambes"
DESCRIPTION:
URL:https://mairie-pezilla-riviere.fr/sortie-pyrenees-orientales-autour-perpignan-occitanie/spectacle-de-lassociation-de-danse-la-tete-et-les-jambes/
LOCATION:Halle des sports\, 5 Rue Força Réal\, Pézilla la Rivière\, 66370\, France
END:VEVENT
BEGIN:VEVENT
DTSTART;TZID=Europe/Paris:20240616T160000
DTEND;TZID=Europe/Paris:20240616T160000
DTSTAMP:20260421T134017
CREATED:20240430T131250Z
LAST-MODIFIED:20240430T131250Z
UID:10474-1718553600-1718553600@mairie-pezilla-riviere.fr
SUMMARY:Chant choral avec la Chorale Maribel
DESCRIPTION:
URL:https://mairie-pezilla-riviere.fr/sortie-pyrenees-orientales-autour-perpignan-occitanie/chant-choral-avec-la-chorale-maribel/
LOCATION:Centre Culturel\, 2 rue Ferdinand José\, Pézilla-la-Rivière\, Occitanie\, 66370\, France
END:VEVENT
BEGIN:VEVENT
DTSTART;TZID=Europe/Paris:20240621T210000
DTEND;TZID=Europe/Paris:20240621T210000
DTSTAMP:20260421T134017
CREATED:20240618T133821Z
LAST-MODIFIED:20240619T063615Z
UID:10870-1719003600-1719003600@mairie-pezilla-riviere.fr
SUMMARY:Nits de la Cellera 2024 "Nit de l'accordio"
DESCRIPTION:
URL:https://mairie-pezilla-riviere.fr/sortie-pyrenees-orientales-autour-perpignan-occitanie/nits-de-la-cellera-2024/
LOCATION:Place du général Foixet\, Place du général Foixet\, Pézilla-la-Rivière\, 66370\, France
END:VEVENT
BEGIN:VEVENT
DTSTART;TZID=Europe/Paris:20240623T200000
DTEND;TZID=Europe/Paris:20240623T200000
DTSTAMP:20260421T134017
CREATED:20240430T140907Z
LAST-MODIFIED:20240430T162942Z
UID:10508-1719172800-1719172800@mairie-pezilla-riviere.fr
SUMMARY:Feu de la Saint Jean
DESCRIPTION:
URL:https://mairie-pezilla-riviere.fr/sortie-pyrenees-orientales-autour-perpignan-occitanie/feu-de-la-saint-jean/
LOCATION:Marché de Gros\, rue du marché de Gros\, Pézilla-la-Rivière\, 66370\, France
END:VEVENT
BEGIN:VEVENT
DTSTART;TZID=Europe/Paris:20240627T203000
DTEND;TZID=Europe/Paris:20240627T203000
DTSTAMP:20260421T134017
CREATED:20240430T135324Z
LAST-MODIFIED:20240430T135324Z
UID:10498-1719520200-1719520200@mairie-pezilla-riviere.fr
SUMMARY:Conférence - Les causes et le déclenchement de la Guerre (septembre 39 - Juin 40 )
DESCRIPTION:
URL:https://mairie-pezilla-riviere.fr/sortie-pyrenees-orientales-autour-perpignan-occitanie/conference-les-causes-et-le-declenchement-de-la-guerre-septembre-39-juin-40/
LOCATION:Centre Culturel\, 2 rue Ferdinand José\, Pézilla-la-Rivière\, Occitanie\, 66370\, France
END:VEVENT
BEGIN:VEVENT
DTSTART;TZID=Europe/Paris:20240628T190000
DTEND;TZID=Europe/Paris:20240628T190000
DTSTAMP:20260421T134017
CREATED:20240618T141532Z
LAST-MODIFIED:20240618T142510Z
UID:10872-1719601200-1719601200@mairie-pezilla-riviere.fr
SUMMARY:Nits de la Cellera 2024
DESCRIPTION:
URL:https://mairie-pezilla-riviere.fr/sortie-pyrenees-orientales-autour-perpignan-occitanie/nits-de-la-cellera-2024-2/
LOCATION:Place du général Foixet\, Place du général Foixet\, Pézilla-la-Rivière\, 66370\, France
END:VEVENT
END:VCALENDAR